BEGIN:VCALENDAR
VERSION:2.0
PRODID:-//Linux Professional Institute (LPI) - ECPv6.15.20//NONSGML v1.0//EN
CALSCALE:GREGORIAN
METHOD:PUBLISH
X-ORIGINAL-URL:https://www.lpi.org/de/
X-WR-CALDESC:Veranstaltungen für Linux Professional Institute (LPI)
REFRESH-INTERVAL;VALUE=DURATION:PT1H
X-Robots-Tag:noindex
X-PUBLISHED-TTL:PT1H
BEGIN:VTIMEZONE
TZID:America/Toronto
BEGIN:DAYLIGHT
TZOFFSETFROM:-0500
TZOFFSETTO:-0400
TZNAME:EDT
DTSTART:20250309T070000
END:DAYLIGHT
BEGIN:STANDARD
TZOFFSETFROM:-0400
TZOFFSETTO:-0500
TZNAME:EST
DTSTART:20251102T060000
END:STANDARD
BEGIN:DAYLIGHT
TZOFFSETFROM:-0500
TZOFFSETTO:-0400
TZNAME:EDT
DTSTART:20260308T070000
END:DAYLIGHT
BEGIN:STANDARD
TZOFFSETFROM:-0400
TZOFFSETTO:-0500
TZNAME:EST
DTSTART:20261101T060000
END:STANDARD
BEGIN:DAYLIGHT
TZOFFSETFROM:-0500
TZOFFSETTO:-0400
TZNAME:EDT
DTSTART:20270314T070000
END:DAYLIGHT
BEGIN:STANDARD
TZOFFSETFROM:-0400
TZOFFSETTO:-0500
TZNAME:EST
DTSTART:20271107T060000
END:STANDARD
END:VTIMEZONE
BEGIN:VEVENT
DTSTART;TZID=America/Toronto:20260410T080000
DTEND;TZID=America/Toronto:20260411T170000
DTSTAMP:20260424T202240
CREATED:20260213T130625Z
LAST-MODIFIED:20260401T081805Z
UID:10000017-1775808000-1775926800@www.lpi.org
SUMMARY:LPI bietet großen Community-Rabatt auf den Grazer Linuxtagen!
DESCRIPTION:10.–11. April 2026\nGraz\, Österreich\nTU Graz\, Campus Inffeldgasse\n\nDas Linux Professional Institute (LPI) freut sich\, an den Grazer Linuxtagen 2026 teilzunehmen – einer jährlichen Konferenz rund um Open-Source-Software und -Hardware. \nDie Grazer Linuxtage bringen mehr als 1.000 Teilnehmende zusammen\, darunter IT-Fachleute\, Studierende\, Lehrende und Hobbyanwender. Zwei Tage lang gibt es Vorträge\, Workshops und Möglichkeiten zum Austausch in der Community. Die Veranstaltung ist kostenlos und öffentlich zugänglich\, eine Reservierung ist nicht erforderlich. \nDas Programm umfasst Sessions zu den Themen Sicherheit\, Entwicklung\, Open Data\, Anwendungen und Systemadministration sowie praxisorientierte Workshops und Lightning Talks. \nPapierbasierte Prüfungen zu Sonderpreisen \nDas LPI bietet Prüfungen mit einem Community-Rabatt an. Sie kosten jeweils 70 Euro (Essentials-Prüfungen) beziehungsweise 110 Euro (alle anderen Prüfungen). Dieses Angebot wird ermöglicht durch unsere Channel-Partnern Open Source Certification GmbH und Linux-Training Werner Fischer. \nReduzierte Prüfungsgebühren (nur papierbasierte Prüfungen): \n\n70 Euro für Linux Essentials und Security Essentials\n110 Euro für alle Zertifizierungsprüfungen auf Professional-Niveau\n\nEine Registrierung ist erforderlich\, um dieses Angebot nutzen zu können. \nEs finden drei Prüfungstermine statt: \n\nFreitag\, 10. April\, 14:30 Uhr\nSamstag\, 11. April\, 9:30 Uhr\nSamstag\, 11. April\, 14:30 Uhr\n\nKandidatinnen und Kandidaten können Linux Essentials\, Web Development Essentials und Security Essentials auf Englisch und Deutsch ablegen\, Open Source Essentials nur auf Englisch\, die LPIC-1– und LPIC-2-Prüfungen auf Deutsch und Englisch sowie die LPIC-3-Prüfungen nur auf Englisch. Zusätzlich werden die Prüfungen DevOps Tools Engineer und BSD Specialist angeboten (beide nur auf Englisch). \nDa die Plätze begrenzt sind\, bitten wir um eine Vorabregistrierung. Obwohl LPI die Vorabregistrierung empfiehlt\, werden freie Plätze auch an Personen ohne vorherige Anmeldung vergeben. \nJetzt über das Formular unten registrieren! \nDie Prüfungen finden im Seminarraum ISW in der Inffeldgasse an der TU Graz statt. Treffpunkt ist 30 Minuten vor Prüfungsbeginn. Die Kandidaten müssen sich 15 Minuten vor Prüfungsbeginn im Prüfungsraum einfinden und einen amtlichen Lichtbildausweis (Reisepass\, Personalausweis oder Führerschein)\, ihre LPI-ID sowie die Prüfungsgebühr in bar mitbringen. \nFür das LPI sind Björn Schönewald und Dirk Streubel während der gesamten Veranstaltung vor Ort. \nVollständiges Programm der Grazer Linuxtage 2026: https://pretalx.linuxtage.at/glt26/schedule/ \n  \n\n\n                \n                        \n                            Prüfungsanmeldung Grazer Linuxtage 2026\n                             \n                        \n                        Name(erforderlich)\n                            \n                            \n                                                    Vorname\n                                                    \n                                                \n                            \n                            \n                                                            Nachname\n                                                            \n                                                        \n                            \n                        E-Mail(erforderlich)\n                                \n                                    E-Mail eingeben\n                                    \n                                \n                                \n                                    E-Mail bestätigen\n                                    \n                                \n                                \n                            LPI ID(erforderlich)Prüfungszeit(erforderlich)Freitag\, 10. April\, 14.30 UhrSamstag\, 11. April\, 9.30 UhrSamstag\, 11. April\, 14.30 UhrPrüfung(erforderlich)Englisch - Linux EssentialsEnglisch - Security EssentialsEnglisch - Web Development EssentialsEnglisch - Open Source EssentialsEnglisch - LPIC-1: 101Englisch - LPIC-1: 102Englisch - LPIC-2: 201Englisch - LPIC-2: 202Englisch - LPIC-3: 300 Mixed EnvironmentsEnglisch - LPIC-3: 303 SecurityEnglisch - LPIC-3: 305 Virtualization and ContainerizationEnglisch - LPIC-3: 306 High Availability and Storage ClustersEnglisch - DevOps Tools EngineerEnglisch - BSD SpecialistDeutsch - Linux EssentialsDeutsch - Security EssentialsDeutsch - Web Development EssentialsDeutsch - LPIC-1: 101Deutsch - LPIC-1: 102Deutsch - LPIC-2: 201Deutsch - LPIC-2: 202Bezahlmethode(erforderlich)barLassen Sie uns wissen\, ob Sie Fragen oder Anmerkungen habenPrivacy Consent(erforderlich) Ich bin damit einverstanden\, dass das Linux Professional Institute meine Daten erfasst\, um meine Anfrage bearbeiten zu können. Datenschutz.(erforderlich)CAPTCHA
URL:https://www.lpi.org/de/event/grazer-lt-26/
LOCATION:Graz\, Austria TU Graz\, Campus Inffeldgasse\, Campus Inffeldgasse\, Graz\, Australia
CATEGORIES:Veranstaltungen, auf denen man das LPI treffen kann,Veranstaltung in Europa
ATTACH;FMTTYPE=image/jpeg:https://www.lpi.org/wp-content/uploads/2026/02/article-Grazer-Linuxtage-2026-02.jpg
END:VEVENT
BEGIN:VEVENT
DTSTART;TZID=America/Toronto:20260815T080000
DTEND;TZID=America/Toronto:20260816T170000
DTSTAMP:20260424T202240
CREATED:20260410T092523Z
LAST-MODIFIED:20260410T092523Z
UID:10000023-1786780800-1786899600@www.lpi.org
SUMMARY:LPI auf der FrOSCon 2026: Prüfungen zum Sonderpreis
DESCRIPTION:15.–16. August 2026\nSankt Augustin\, Deutschland\nHochschule Bonn-Rhein-Sieg\n\nDas Linux Professional Institute (LPI) freut sich\, an der FrOSCon 2026 teilzunehmen\, einer der wichtigsten Community-orientierten Open-Source-Konferenzen Deutschlands. \nDie FrOSCon bringt über 3.500 Teilnehmer zusammen\, darunter IT-Fachleute\, Studierende\, Lehrkräfte\, Führungskräfte aus der Wirtschaft und Hobby-Entwickler\, zu zwei Tagen voller Vorträge\, Workshops und Community-Networking. Der Eintritt zu der öffentlichen Veranstaltung ist frei. \nLPI-Stand und Quiz \nBesuchen Sie den LPI-Stand\, um Informationen zu unseren Zertifizierungen\, Lernmaterialien und der neuen Zertifizierung „DevOps Tools Engineer 2.0“ zu erhalten. Erfahren Sie mehr darüber\, wie Sie LPI-Partner\, Mitglied oder zertifizierter Trainer werden können. \nNehmen Sie an unserem Quiz teil und gewinnen Sie ein Thomas-Krenn Edge4Go-System\, bereitgestellt von der Thomas-Krenn.AG\, einen großen Tux-Plüsch und Bücher von Rheinwerk Verlag und dpunkt.verlag. \nPrüfungen in Papierform zu Sonderpreisen \nDas LPI bietet auf der FrOSCon 2026 Zertifizierungsprüfungen in Papierform zu ermäßigten Preisen an\, ermöglicht durch unsere geschätzten Channel-Partner Open Source Certification GmbH (OSC) und Werner Fischer. \nErmäßigte Prüfungen (nur papierbasierte Prüfungen): \n\n70 € für Linux Essentials\, Web Development Essentials\, Security Essentials und Open Source Essentials\n110 € für alle professionellen Zertifizierungsprüfungen (LPIC-1\, LPIC-2\, LPIC-3\, DevOps Tools Engineer\, BSD Specialist)\n\nPrüfungstermine: \n\nSamstag\, 15. August\, 10.30 Uhr (Anmeldung ab 10 Uhr)\nSamstag\, 15. August\, 14.30 Uhr (Anmeldung ab 14 Uhr)\nSonntag\, 16. August\, 10.30 Uhr (Anmeldung ab 10 Uhr)\n\nDie Prüfungen finden in Raum B118 statt. Da die Plätze begrenzt sind\, wird eine Voranmeldung empfohlen\, jedoch werden auch spontane Teilnehmer berücksichtigt\, sofern Platz vorhanden ist. \nPrüfungsvoraussetzungen: \n\nEintreffen am Prüfungsraum 30 Minuten vor Prüfungsbeginn\nMitbringen eines amtlichen Lichtbildausweises (Reisepass\, Personalausweis oder Führerschein)\nLPI-ID und Prüfungsgebühr in bar mitbringen\n\nVerfügbare Prüfungen: Linux Essentials\, Web Development Essentials\, Security Essentials (Englisch und Deutsch)\, Open Source Essentials (nur Englisch)\, LPIC-1\, LPIC-2 (Englisch und Deutsch)\, LPIC-3\, DevOps Tools Engineer\, BSD Specialist (nur Englisch). \nZur Prüfung anmelden:\n\n                \n                        \n                            PBT Event Registration - FrOSCon 2026\n                             \n                        \n                        Name(erforderlich)\n                            \n                            \n                                                    Vorname\n                                                    \n                                                \n                            \n                            \n                                                            Nachname\n                                                            \n                                                        \n                            \n                        Email(erforderlich)\n                                \n                                    E-Mail eingeben\n                                    \n                                \n                                \n                                    E-Mail bestätigen\n                                    \n                                \n                                \n                            LPI ID(erforderlich)Exam Time Slot(erforderlich)Saturday\, August 15\, 10:30Saturday\, August 15\, 14:30Sunday\, August 16\, 10:30Exam(erforderlich)English - Linux EssentialsEnglish - Security EssentialsEnglish - Web Development EssentialsEnglish - Open Source EssentialsEnglish - LPIC-1: 101English - LPIC-1: 102English - LPIC-2: 201English - LPIC-2: 202English - LPIC-3: 300 Mixed EnvironmentsEnglish - LPIC-3: 303 SecurityEnglish - LPIC-3: 305 Virtualization and ContainerizationEnglish - LPIC-3: 306 High Availability and Storage ClustersEnglish - DevOps Tools EngineerEnglish - BSD SpecialistGerman - Linux EssentialsGerman - Security EssentialsGerman - Web Development EssentialsGerman - LPIC-1: 101German - LPIC-1: 102German - LPIC-2: 201German - LPIC-2: 202Payment Method(erforderlich)CashLet the event organizer know if you have any questions or commentPrivacy Consent(erforderlich) I agree that the information submitted to the Linux Professional Institute is subject to the Privacy Policy.(erforderlich)CAPTCHA\n          \n            \n            \n            \n            \n            \n            \n            \n            \n            \n            \n            \n            \n            \n        \n                        \n                        \n \n  \n  \n  \n  \n  \n  \n  \n  \n  \n 
URL:https://www.lpi.org/de/event/froscon-26/
LOCATION:Sankt Augustin\, Germany\, Sankt Augustin\, Germany
CATEGORIES:Veranstaltungen, auf denen man das LPI treffen kann,Veranstaltung in Europa
ATTACH;FMTTYPE=image/jpeg:https://www.lpi.org/wp-content/uploads/2026/04/Linux-Professional-Institute-LPI-is-pleased-to-participate-in-FrOSCon-2026.jpg
END:VEVENT
END:VCALENDAR