BEGIN:VCALENDAR
VERSION:2.0
PRODID:-//Linux Professional Institute (LPI) - ECPv6.15.20//NONSGML v1.0//EN
CALSCALE:GREGORIAN
METHOD:PUBLISH
X-ORIGINAL-URL:https://www.lpi.org
X-WR-CALDESC:Events for Linux Professional Institute (LPI)
REFRESH-INTERVAL;VALUE=DURATION:PT1H
X-Robots-Tag:noindex
X-PUBLISHED-TTL:PT1H
BEGIN:VTIMEZONE
TZID:America/Toronto
BEGIN:DAYLIGHT
TZOFFSETFROM:-0500
TZOFFSETTO:-0400
TZNAME:EDT
DTSTART:20250309T070000
END:DAYLIGHT
BEGIN:STANDARD
TZOFFSETFROM:-0400
TZOFFSETTO:-0500
TZNAME:EST
DTSTART:20251102T060000
END:STANDARD
BEGIN:DAYLIGHT
TZOFFSETFROM:-0500
TZOFFSETTO:-0400
TZNAME:EDT
DTSTART:20260308T070000
END:DAYLIGHT
BEGIN:STANDARD
TZOFFSETFROM:-0400
TZOFFSETTO:-0500
TZNAME:EST
DTSTART:20261101T060000
END:STANDARD
BEGIN:DAYLIGHT
TZOFFSETFROM:-0500
TZOFFSETTO:-0400
TZNAME:EDT
DTSTART:20270314T070000
END:DAYLIGHT
BEGIN:STANDARD
TZOFFSETFROM:-0400
TZOFFSETTO:-0500
TZNAME:EST
DTSTART:20271107T060000
END:STANDARD
END:VTIMEZONE
BEGIN:VEVENT
DTSTART;TZID=America/Toronto:20260128T080000
DTEND;TZID=America/Toronto:20260129T170000
DTSTAMP:20260421T132119
CREATED:20260106T102124Z
LAST-MODIFIED:20260106T102124Z
UID:10000006-1769587200-1769706000@www.lpi.org
SUMMARY:Univention Summit 2026: LPI as a Media Partner
DESCRIPTION:January 28-29\, 2026\nBremen\, Germany\, and online\n\nLinux Professional Institute (LPI) is glad to support the Univention Summit 2026 as a Media Partner. The summit brings together community and industry voices to discuss open source\, digital sovereignty\, and practical solutions for public administration\, education\, and business. \nLPI will also highlight the session by Werner Fischer on teaching Linux in schools with LPI certification\, scheduled for January 28 at 14:10 on the Tech Stage. \nAs part of this media partnership\, LPI will promote the summit through its channels and provide a limited-time 20% discount on an LPI exam for attendees. For details\, please contact events@lpi.org. \n\nFor more information\, visit:\n\nhttps://www.univention-summit.de/
URL:https://www.lpi.org/event/univention-summit-26/
LOCATION:ATLANTIC Hotel Galopprennbahn Bremen\, Bremen\, Germany
CATEGORIES:Events where you can meet LPI,Event in Europe
ATTACH;FMTTYPE=image/png:https://www.lpi.org/wp-content/uploads/2026/01/event-univention-summit-lpi.png
END:VEVENT
BEGIN:VEVENT
DTSTART;TZID=America/Toronto:20260130T090000
DTEND;TZID=America/Toronto:20260130T180000
DTSTAMP:20260421T132119
CREATED:20251215T105333Z
LAST-MODIFIED:20251215T105333Z
UID:10000005-1769763600-1769796000@www.lpi.org
SUMMARY:LPI at the EU Open Source Policy Summit 2026
DESCRIPTION:January 30\, 2026\nBrussels\, Belgium + Online\n\nLinux Professional Institute (LPI) is proud to participate in the EU Open Source Policy Summit 2026\, organised by OpenForum Europe. This flagship annual event brings together policymakers\, industry leaders\, researchers\, and community representatives to shape the future of open source in Europe’s digital strategy. \nThe 2026 edition\, themed Digital Sovereignty Runs on Open Source\, will explore how open collaboration drives competitiveness\, resilience\, and innovation across critical sectors — from cloud and AI to automotive software\, cybersecurity\, and public digital infrastructure. \nThroughout the day\, participants will engage with key topics such as: \n\nOpen source as the foundation of Europe’s digital sovereignty and innovation capacity.\nSecurity and sustainability in light of the Cyber Resilience Act and the European Sovereign Tech Fund.\nTrusted open infrastructure for AI\, identity\, and public services.\nThe role of public sector OSPOs in institutional capability building.\nThe case for a Fourth European Standardisation Organisation to support open development.\n\nAs a Bronze Sponsor\, LPI continues to support the Summit’s mission to connect open source with European policymaking and institutional practice. This partnership reflects LPI’s commitment to fostering open\, secure\, and transparent digital ecosystems through skills development\, education\, and certification. \nThe event will take place in person in Brussels and be accessible online for remote participants. Attendance is by invitation\, with free access for virtual participants. \n\nFor more information\, visit:\n\nhttps://summit.openforumeurope.org/
URL:https://www.lpi.org/event/eu-open-source-policy-summit-2026/
LOCATION:Brussels\, Brussels\, Belgium
CATEGORIES:Events where you can meet LPI,Event in Europe
ATTACH;FMTTYPE=image/png:https://www.lpi.org/wp-content/uploads/2025/12/osforum-eu-lpi-event.png
END:VEVENT
BEGIN:VEVENT
DTSTART;TZID=America/Toronto:20260131T090000
DTEND;TZID=America/Toronto:20260201T170000
DTSTAMP:20260421T132119
CREATED:20260112T105327Z
LAST-MODIFIED:20260115T121930Z
UID:10000007-1769850000-1769965200@www.lpi.org
SUMMARY:LPI at FOSDEM 2026\, with Exam Discount for the Community!
DESCRIPTION:February 1\, 2026\nULB Campus\, Brussels\, Belgium\n\nLinux Professional Institute (LPI) will be present at FOSDEM 2026 without an official booth\, but very much on site through its community and one of its most recognisable voices. \nJon “maddog” Hall\, Chairman Emeritus of LPI\, will deliver a talk titled “Privacy and Sovereignty in a Post Quantum Open World” as part of the Identity and Access Management developer room. \nThe session will take place on Sunday\, February 1\, from 11:05 to 11:35\, in Room H.2214. The talk will explore the impact of post-quantum computing on encryption\, digital sovereignty\, and why open source systems remain essential for security\, transparency\, and control. \nFOSDEM is one of the most important free and open source software events in the world\, bringing together thousands of developers\, contributors\, and organisations every year in Brussels. Even without a booth\, LPI will be easy to spot\, including through a special on-site exam discount worn proudly during the event. If you are curious\, come to FOSDEM and ask! If you need assistance in retrieving your discount\, please contact us. \nMeet us in the corridors\, attend the talk\, and say hello! \n\nTalk details:\n\nhttps://fosdem.org/2026/schedule/event/ULPHF3-privacy_and_sovereignty_in_a_post_quantum_open_world/\n\n\n\nFull FOSDEM 2026 schedule:\n\nhttps://fosdem.org/2026/schedule/\n\n\n\nFOSDEM homepage:\n\nhttps://fosdem.org/2026/
URL:https://www.lpi.org/event/fosdem-26/
LOCATION:ULB Campus\, Brussels\, Belgium\, Av. Franklin Roosevelt 50\, 1050 Bruxelles\, Belgium\, Brussels\, Belgium
CATEGORIES:Events where you can meet LPI,Event in Europe
ATTACH;FMTTYPE=image/png:https://www.lpi.org/wp-content/uploads/2026/01/event-fosdem-lpi.png
END:VEVENT
END:VCALENDAR