BEGIN:VCALENDAR
VERSION:2.0
PRODID:-//Linux Professional Institute (LPI) - ECPv6.15.20//NONSGML v1.0//EN
CALSCALE:GREGORIAN
METHOD:PUBLISH
X-ORIGINAL-URL:https://www.lpi.org
X-WR-CALDESC:Events for Linux Professional Institute (LPI)
REFRESH-INTERVAL;VALUE=DURATION:PT1H
X-Robots-Tag:noindex
X-PUBLISHED-TTL:PT1H
BEGIN:VTIMEZONE
TZID:America/Toronto
BEGIN:DAYLIGHT
TZOFFSETFROM:-0500
TZOFFSETTO:-0400
TZNAME:EDT
DTSTART:20250309T070000
END:DAYLIGHT
BEGIN:STANDARD
TZOFFSETFROM:-0400
TZOFFSETTO:-0500
TZNAME:EST
DTSTART:20251102T060000
END:STANDARD
BEGIN:DAYLIGHT
TZOFFSETFROM:-0500
TZOFFSETTO:-0400
TZNAME:EDT
DTSTART:20260308T070000
END:DAYLIGHT
BEGIN:STANDARD
TZOFFSETFROM:-0400
TZOFFSETTO:-0500
TZNAME:EST
DTSTART:20261101T060000
END:STANDARD
BEGIN:DAYLIGHT
TZOFFSETFROM:-0500
TZOFFSETTO:-0400
TZNAME:EDT
DTSTART:20270314T070000
END:DAYLIGHT
BEGIN:STANDARD
TZOFFSETFROM:-0400
TZOFFSETTO:-0500
TZNAME:EST
DTSTART:20271107T060000
END:STANDARD
END:VTIMEZONE
BEGIN:VEVENT
DTSTART;TZID=America/Toronto:20260328T080000
DTEND;TZID=America/Toronto:20260329T170000
DTSTAMP:20260421T115549
CREATED:20260202T140042Z
LAST-MODIFIED:20260327T100843Z
UID:10000011-1774684800-1774803600@www.lpi.org
SUMMARY:Linux Professional Institute at Chemnitzer Linux-Tage 2026
DESCRIPTION:March 28-29 \nLinux Professional Institute (LPI) will join at Chemnitzer Linux-Tage. This year\, we are offering an extra-large community discount for our paper based exams at the event! \nAt the Linux Professional Institute (LPI) booth\, we will provide information about our exams\, learning materials\, and certifications. You are more than welcome to join us to ask questions or chat with us about Linux certification. \nAlso\, education institutions and open-source solution providers are welcome to learn more about the opportunities within the LPI partnership and how to become partners! \nLPI offers discounted paper-based exams at the Chemnitzer Linux-Tage\nThere will be two exam sessions: \n\nSunday\, 10:30 a.m.\nSunday\, 1:30 p.m.\n\nCandidates can take Linux Essentials\, Web Development Essentials\, and Security Essentials in both English and German language\, Open Source Essentials (only in English)\, the LPIC-1 (German and English)\, LPIC-2 (German and English)\, and LPIC-3 exams (English only)\, as well as the DevOps Tools Engineer and BSD Specialist exams (both in English only). \nThe exams will be offered at a community discount\, costing 70 Euros (Essentials exams) and 110 Euros (all other exams). This offer is sponsored by our Channel Partners Open Source Certification GmbH and Linux-Training Werner Fischer. \nSince seats are limited\, we kindly ask candidates to preregister for the event. Although LPI recommends pre-registration\, vacant places will be allocated to candidates without pre-registration. \nRegister below! \nThe exams will be held in room C25.012 in Weinhold-Bau. The meeting point is in front of the building’s door with “#wirsindchemnitz” in the window and the building name below. Candidates do not have to pay an event entrance ticket to take their exam\, as the exam room is not in the main building. \nThe meeting point is 30 minutes before the start of the exam. Candidates must be in the exam room 15 minutes before the exam begins and bring a government-issued photo ID (passport\, ID card\, or driver’s license)\, their LPI ID\, and the exam fee in cash. \nGeneral information about Chemnitzer Linux-Tage is available on the event’s website. The LPI website provides information about the LPI exams and essential exam preparation hints. Learning materials for exam preparation are available at learning.lpi.org. \nWin a server\, plush Tux and reference books in the LPI quiz\nVisit our booth and join the big LPI quiz! Take your chance to win a Thomas-Krenn Edge4Go System\, provided by Thomas-Krenn.AG\, a large plush Tux\, and books from Rheinwerk Verlag. \nIf you have questions or want to schedule a meeting at Chemnitzer Linuxtage\, please contact us! \nImportant for the PBT Event Registration:\nRegistration will close 24 hours before the first exam session on Chemnitzer Linux-Tage 2026. Anyone who would still like to participate can register at short notice during the event. Please report to room C25.012 in the Weinhold building at least 30 minutes before the exam. \nThe online registration is now closed. If you want to participate in the exam session at Chemnitzer Linux-Tage 2026\, come to the exam room half an hour before the exams starts. Exams are held in room C25.012 in Weinhold-Bau.
URL:https://www.lpi.org/event/clt2026/
LOCATION:Chemnitzer Linux Tage\, Chemnitz\, Weinhold-Bau\, Chemnitzer\, Germany
CATEGORIES:Events where you can meet LPI,Event in Europe
ATTACH;FMTTYPE=image/jpeg:https://www.lpi.org/wp-content/uploads/2026/02/article-Chemnitzer-Linux-Tage-2026.jpg
END:VEVENT
END:VCALENDAR