BEGIN:VCALENDAR
VERSION:2.0
PRODID:-//Linux Professional Institute (LPI) - ECPv6.15.20//NONSGML v1.0//EN
CALSCALE:GREGORIAN
METHOD:PUBLISH
X-WR-CALNAME:Linux Professional Institute (LPI)
X-ORIGINAL-URL:https://www.lpi.org
X-WR-CALDESC:Events for Linux Professional Institute (LPI)
REFRESH-INTERVAL;VALUE=DURATION:PT1H
X-Robots-Tag:noindex
X-PUBLISHED-TTL:PT1H
BEGIN:VTIMEZONE
TZID:America/Toronto
BEGIN:DAYLIGHT
TZOFFSETFROM:-0500
TZOFFSETTO:-0400
TZNAME:EDT
DTSTART:20240310T070000
END:DAYLIGHT
BEGIN:STANDARD
TZOFFSETFROM:-0400
TZOFFSETTO:-0500
TZNAME:EST
DTSTART:20241103T060000
END:STANDARD
BEGIN:DAYLIGHT
TZOFFSETFROM:-0500
TZOFFSETTO:-0400
TZNAME:EDT
DTSTART:20250309T070000
END:DAYLIGHT
BEGIN:STANDARD
TZOFFSETFROM:-0400
TZOFFSETTO:-0500
TZNAME:EST
DTSTART:20251102T060000
END:STANDARD
BEGIN:DAYLIGHT
TZOFFSETFROM:-0500
TZOFFSETTO:-0400
TZNAME:EDT
DTSTART:20260308T070000
END:DAYLIGHT
BEGIN:STANDARD
TZOFFSETFROM:-0400
TZOFFSETTO:-0500
TZNAME:EST
DTSTART:20261101T060000
END:STANDARD
END:VTIMEZONE
BEGIN:VEVENT
DTSTART;VALUE=DATE:20251107
DTEND;VALUE=DATE:20251109
DTSTAMP:20260423T200517
CREATED:20251013T072627Z
LAST-MODIFIED:20251013T080239Z
UID:10000003-1762473600-1762646399@www.lpi.org
SUMMARY:LPI at SeaGL 2025
DESCRIPTION:November 7–8\, 2025\nUniversity of Washington\, Husky Union Building (HUB)\, Seattle\, USA\n\nLinux Professional Institute (LPI) is proud to participate in SeaGL 2025 as an exhibitor and media partner. SeaGL (Seattle GNU/Linux Conference) is a community-focused\, grassroots free/libre/open-source software event that brings together developers\, educators\, advocates\, and enthusiasts. The 2025 edition takes place on the University of Washington campus and is free to attend in person or remotely. \nLPI will be present at the exhibitor hall with a booth open on both days\, offering information about certifications\, membership\, and partnership opportunities. In addition\, LPI representatives will contribute to the program with talks highlighting the impact of open source on education and careers. \nLPI sessions at SeaGL 2025:\n– Jon “maddog” Hall: Project Caua Unleashed! (Friday\, November 7\, 10:30 AM)\n– Ted Matsumura: Intro to OpenTofu: Open Source IaC Overview (Friday\, November 7\, 3:00 PM) \nThe conference emphasizes inclusivity and community-driven collaboration\, featuring talks\, workshops\, and networking opportunities. Attendees can join in person without registration or connect remotely through Matrix. \n\nFor more information\, visit:\n\nhttps://seagl.org/attend
URL:https://www.lpi.org/event/lpi-at-seagl-2025/
LOCATION:University of Washington\, Husky Union Bldg (HUB)\, 4001 E Stevens Way NE\, Seattle\, WA 98195\, United States
CATEGORIES:Events where you can meet LPI
ATTACH;FMTTYPE=image/png:https://www.lpi.org/wp-content/uploads/2025/10/event-seagl-25-lpi.png
END:VEVENT
END:VCALENDAR