BEGIN:VCALENDAR
VERSION:2.0
PRODID:-//Linux Professional Institute (LPI) - ECPv6.15.20//NONSGML v1.0//EN
CALSCALE:GREGORIAN
METHOD:PUBLISH
X-ORIGINAL-URL:https://www.lpi.org
X-WR-CALDESC:Events for Linux Professional Institute (LPI)
REFRESH-INTERVAL;VALUE=DURATION:PT1H
X-Robots-Tag:noindex
X-PUBLISHED-TTL:PT1H
BEGIN:VTIMEZONE
TZID:America/Toronto
BEGIN:DAYLIGHT
TZOFFSETFROM:-0500
TZOFFSETTO:-0400
TZNAME:EDT
DTSTART:20240310T070000
END:DAYLIGHT
BEGIN:STANDARD
TZOFFSETFROM:-0400
TZOFFSETTO:-0500
TZNAME:EST
DTSTART:20241103T060000
END:STANDARD
BEGIN:DAYLIGHT
TZOFFSETFROM:-0500
TZOFFSETTO:-0400
TZNAME:EDT
DTSTART:20250309T070000
END:DAYLIGHT
BEGIN:STANDARD
TZOFFSETFROM:-0400
TZOFFSETTO:-0500
TZNAME:EST
DTSTART:20251102T060000
END:STANDARD
BEGIN:DAYLIGHT
TZOFFSETFROM:-0500
TZOFFSETTO:-0400
TZNAME:EDT
DTSTART:20260308T070000
END:DAYLIGHT
BEGIN:STANDARD
TZOFFSETFROM:-0400
TZOFFSETTO:-0500
TZNAME:EST
DTSTART:20261101T060000
END:STANDARD
END:VTIMEZONE
BEGIN:VEVENT
DTSTART;VALUE=DATE:20251206
DTEND;VALUE=DATE:20251207
DTSTAMP:20260423T200530
CREATED:20251117T145045Z
LAST-MODIFIED:20251209T154411Z
UID:10000004-1764979200-1765065599@www.lpi.org
SUMMARY:LPI at OLF ’25: Ohio Linux Fest
DESCRIPTION:Linux Professional Institute (LPI) is proud to support the OLF Conference 2025 as a Media Partner. OLF is a long-running free and open source software conference in the United States Midwest\, bringing together developers\, system administrators\, educators\, and community advocates for a full day of talks\, birds of a feather sessions\, and networking in downtown Columbus. \nThe 2025 edition will be a one-day experience as the OLF team evaluates new venues and formats for future years. The event program includes keynotes\, technical presentations\, an expo area\, community posters\, and an evening raffle followed by an afterparty. \nLPI will be present with a table hosted by Jon “maddog” Hall\, Chairman Emeritus of the LPI Board and a long-time supporter of OLF. Attendees will have the opportunity to meet maddog\, learn about LPI’s certifications and community initiatives\, and connect around the role of free and open source software in education and industry. \nThe conference schedule features a range of sessions on open source practice\, infrastructure\, data\, and community. The day will close with Jon “maddog” Hall’s talk Footnote: Not About Being Free but About Having Control\, focusing on how GNU/Linux and free software give individuals and organizations more control over their systems and choices.
URL:https://www.lpi.org/event/lpi-at-olf-25-ohio-linux-fest/
LOCATION:Sonesta Columbus Downtown Hotel\, 33 East Nationwide Boulevard\, Columbus\, OH\, 43215\, United States
CATEGORIES:Events where you can meet LPI
ATTACH;FMTTYPE=image/png:https://www.lpi.org/wp-content/uploads/2023/09/olf-lpi-23.png
END:VEVENT
END:VCALENDAR