BEGIN:VCALENDAR
VERSION:2.0
PRODID:-//Linux Professional Institute (LPI) - ECPv6.15.20//NONSGML v1.0//EN
CALSCALE:GREGORIAN
METHOD:PUBLISH
X-WR-CALNAME:Linux Professional Institute (LPI)
X-ORIGINAL-URL:https://www.lpi.org
X-WR-CALDESC:Events for Linux Professional Institute (LPI)
REFRESH-INTERVAL;VALUE=DURATION:PT1H
X-Robots-Tag:noindex
X-PUBLISHED-TTL:PT1H
BEGIN:VTIMEZONE
TZID:America/Toronto
BEGIN:DAYLIGHT
TZOFFSETFROM:-0500
TZOFFSETTO:-0400
TZNAME:EDT
DTSTART:20250309T070000
END:DAYLIGHT
BEGIN:STANDARD
TZOFFSETFROM:-0400
TZOFFSETTO:-0500
TZNAME:EST
DTSTART:20251102T060000
END:STANDARD
BEGIN:DAYLIGHT
TZOFFSETFROM:-0500
TZOFFSETTO:-0400
TZNAME:EDT
DTSTART:20260308T070000
END:DAYLIGHT
BEGIN:STANDARD
TZOFFSETFROM:-0400
TZOFFSETTO:-0500
TZNAME:EST
DTSTART:20261101T060000
END:STANDARD
BEGIN:DAYLIGHT
TZOFFSETFROM:-0500
TZOFFSETTO:-0400
TZNAME:EDT
DTSTART:20270314T070000
END:DAYLIGHT
BEGIN:STANDARD
TZOFFSETFROM:-0400
TZOFFSETTO:-0500
TZNAME:EST
DTSTART:20271107T060000
END:STANDARD
END:VTIMEZONE
BEGIN:VEVENT
DTSTART;TZID=America/Toronto:20260416T080000
DTEND;TZID=America/Toronto:20260418T170000
DTSTAMP:20260423T135733
CREATED:20260416T112804Z
LAST-MODIFIED:20260416T112804Z
UID:10000022-1776326400-1776531600@www.lpi.org
SUMMARY:LPI is proud to serve as a Supporting Association for Nerdearla Chile 2026
DESCRIPTION:April 16-18\, 2026\nSantiago\, Chile\nCentro Cultural Gabriela Mistral (Centro GAM + Hybrid)\n\nLinux Professional Institute (LPI) is proud to serve as a Supporting Association for Nerdearla Chile 2026\, the largest free technology and open source event in Hispanic America. \nNow in its third Chilean edition\, Nerdearla brings together 50\,000+ attendees through a hybrid format combining in-person activities at Centro GAM with global live streaming. The event features over 200 speakers from across Latin America and beyond\, covering topics including DevOps\, cloud infrastructure\, software development\, cybersecurity\, AI\, and open source technologies. \nEvent format: \n\nApril 16: Virtual workshops and talks (streaming only)\nApril 17-18: In-person talks\, workshops\, and networking at Centro GAM with live streaming\n\nNerdearla welcomes IT professionals of all experience levels\, from students and recent graduates to senior developers\, architects\, and technical leaders. The event is completely free and open to the public. \nSince 2014\, Nerdearla has been a cornerstone of the Spanish-speaking tech community\, promoting knowledge exchange and collaboration across technology\, science\, and open source. \nJoin thousands of developers\, DevOps engineers\, security professionals\, and IT leaders for three days of technical content and community networking! \n\nEvent website:\n\nhttps://nerdearla.cl/\n\n\nRegister (free):\n\nhttps://tickets.nerdearla.cl/
URL:https://www.lpi.org/event/nerdearla-26/
CATEGORIES:Events where you can meet LPI,Event in Latin America
ATTACH;FMTTYPE=image/png:https://www.lpi.org/wp-content/uploads/2023/05/nerdearla-2022-linux-professional-institute.png
END:VEVENT
END:VCALENDAR