BEGIN:VCALENDAR
VERSION:2.0
PRODID:-//Linux Professional Institute (LPI) - ECPv6.15.20//NONSGML v1.0//EN
CALSCALE:GREGORIAN
METHOD:PUBLISH
X-ORIGINAL-URL:https://www.lpi.org
X-WR-CALDESC:Events for Linux Professional Institute (LPI)
REFRESH-INTERVAL;VALUE=DURATION:PT1H
X-Robots-Tag:noindex
X-PUBLISHED-TTL:PT1H
BEGIN:VTIMEZONE
TZID:America/Toronto
BEGIN:DAYLIGHT
TZOFFSETFROM:-0500
TZOFFSETTO:-0400
TZNAME:EDT
DTSTART:20250309T070000
END:DAYLIGHT
BEGIN:STANDARD
TZOFFSETFROM:-0400
TZOFFSETTO:-0500
TZNAME:EST
DTSTART:20251102T060000
END:STANDARD
BEGIN:DAYLIGHT
TZOFFSETFROM:-0500
TZOFFSETTO:-0400
TZNAME:EDT
DTSTART:20260308T070000
END:DAYLIGHT
BEGIN:STANDARD
TZOFFSETFROM:-0400
TZOFFSETTO:-0500
TZNAME:EST
DTSTART:20261101T060000
END:STANDARD
BEGIN:DAYLIGHT
TZOFFSETFROM:-0500
TZOFFSETTO:-0400
TZNAME:EDT
DTSTART:20270314T070000
END:DAYLIGHT
BEGIN:STANDARD
TZOFFSETFROM:-0400
TZOFFSETTO:-0500
TZNAME:EST
DTSTART:20271107T060000
END:STANDARD
END:VTIMEZONE
BEGIN:VEVENT
DTSTART;TZID=America/Toronto:20260130T090000
DTEND;TZID=America/Toronto:20260130T180000
DTSTAMP:20260421T161240
CREATED:20251215T105333Z
LAST-MODIFIED:20251215T105333Z
UID:10000005-1769763600-1769796000@www.lpi.org
SUMMARY:LPI at the EU Open Source Policy Summit 2026
DESCRIPTION:January 30\, 2026\nBrussels\, Belgium + Online\n\nLinux Professional Institute (LPI) is proud to participate in the EU Open Source Policy Summit 2026\, organised by OpenForum Europe. This flagship annual event brings together policymakers\, industry leaders\, researchers\, and community representatives to shape the future of open source in Europe’s digital strategy. \nThe 2026 edition\, themed Digital Sovereignty Runs on Open Source\, will explore how open collaboration drives competitiveness\, resilience\, and innovation across critical sectors — from cloud and AI to automotive software\, cybersecurity\, and public digital infrastructure. \nThroughout the day\, participants will engage with key topics such as: \n\nOpen source as the foundation of Europe’s digital sovereignty and innovation capacity.\nSecurity and sustainability in light of the Cyber Resilience Act and the European Sovereign Tech Fund.\nTrusted open infrastructure for AI\, identity\, and public services.\nThe role of public sector OSPOs in institutional capability building.\nThe case for a Fourth European Standardisation Organisation to support open development.\n\nAs a Bronze Sponsor\, LPI continues to support the Summit’s mission to connect open source with European policymaking and institutional practice. This partnership reflects LPI’s commitment to fostering open\, secure\, and transparent digital ecosystems through skills development\, education\, and certification. \nThe event will take place in person in Brussels and be accessible online for remote participants. Attendance is by invitation\, with free access for virtual participants. \n\nFor more information\, visit:\n\nhttps://summit.openforumeurope.org/
URL:https://www.lpi.org/event/eu-open-source-policy-summit-2026/
LOCATION:Brussels\, Brussels\, Belgium
CATEGORIES:Events where you can meet LPI,Event in Europe
ATTACH;FMTTYPE=image/png:https://www.lpi.org/wp-content/uploads/2025/12/osforum-eu-lpi-event.png
END:VEVENT
END:VCALENDAR